BEGIN:VCALENDAR
VERSION:2.0
PRODID:-//Kiawah Island Golf Resort - ECPv6.15.20//NONSGML v1.0//EN
CALSCALE:GREGORIAN
METHOD:PUBLISH
X-WR-CALNAME:Kiawah Island Golf Resort
X-ORIGINAL-URL:https://kiawahresort.com
X-WR-CALDESC:Events for Kiawah Island Golf Resort
REFRESH-INTERVAL;VALUE=DURATION:PT1H
X-Robots-Tag:noindex
X-PUBLISHED-TTL:PT1H
BEGIN:VTIMEZONE
TZID:America/New_York
BEGIN:DAYLIGHT
TZOFFSETFROM:-0500
TZOFFSETTO:-0400
TZNAME:EDT
DTSTART:20250309T070000
END:DAYLIGHT
BEGIN:STANDARD
TZOFFSETFROM:-0400
TZOFFSETTO:-0500
TZNAME:EST
DTSTART:20251102T060000
END:STANDARD
BEGIN:DAYLIGHT
TZOFFSETFROM:-0500
TZOFFSETTO:-0400
TZNAME:EDT
DTSTART:20260308T070000
END:DAYLIGHT
BEGIN:STANDARD
TZOFFSETFROM:-0400
TZOFFSETTO:-0500
TZNAME:EST
DTSTART:20261101T060000
END:STANDARD
BEGIN:DAYLIGHT
TZOFFSETFROM:-0500
TZOFFSETTO:-0400
TZNAME:EDT
DTSTART:20270314T070000
END:DAYLIGHT
BEGIN:STANDARD
TZOFFSETFROM:-0400
TZOFFSETTO:-0500
TZNAME:EST
DTSTART:20271107T060000
END:STANDARD
END:VTIMEZONE
BEGIN:VEVENT
DTSTART;TZID=America/New_York:20260322T100000
DTEND;TZID=America/New_York:20260322T130000
DTSTAMP:20260421T233846
CREATED:20260316T203502Z
LAST-MODIFIED:20260316T203502Z
UID:10154072-1774173600-1774184400@kiawahresort.com
SUMMARY:Callaway Club Fitting Days
DESCRIPTION:Get Ready To Make The Leap With Quantum\nSign up now for a Quantum leap in performance! Work one-on-one with Callaway’s expert fitters to dial in the newest Callaway Quantum Driver with Tri-Force Face\, precision-built to maximize your distance\, speed\, and consistency. \nBook Now.
URL:https://kiawahresort.com/event/callaway-club-fitting-days-3-2/
LOCATION:Tommy Cuthbert Golf Learning Center\, 2 Turtle Point Ln\, Kiawah Island\,\, SC\, 29455\, United States
CATEGORIES:Golf
END:VEVENT
BEGIN:VEVENT
DTSTART;TZID=America/New_York:20260302T080000
DTEND;TZID=America/New_York:20260302T170000
DTSTAMP:20260421T233846
CREATED:20260316T203607Z
LAST-MODIFIED:20260316T203608Z
UID:10154071-1772438400-1772470800@kiawahresort.com
SUMMARY:Callaway Club Fitting Days
DESCRIPTION:Tommy Cuthbert Golf Learning Center \nGet Ready To Make The Leap With Quantum\nSign up now for a Quantum leap in performance! Work one-on-one with Callaway’s expert fitters to dial in the newest Callaway Quantum Driver with Tri-Force Face\, precision-built to maximize your distance\, speed\, and consistency. \nBook Now.
URL:https://kiawahresort.com/event/callaway-club-fitting-days-3-3/
LOCATION:Tommy Cuthbert Golf Learning Center\, 2 Turtle Point Ln\, Kiawah Island\,\, SC\, 29455\, United States
CATEGORIES:Golf
END:VEVENT
BEGIN:VEVENT
DTSTART;TZID=America/New_York:20260219T110000
DTEND;TZID=America/New_York:20260219T150000
DTSTAMP:20260421T233846
CREATED:20260216T153750Z
LAST-MODIFIED:20260216T170508Z
UID:10148022-1771498800-1771513200@kiawahresort.com
SUMMARY:Ping Golf Club Fitting Day
DESCRIPTION:Fittings are by appointment only.  \nBook Now
URL:https://kiawahresort.com/event/ping-golf-club-fitting-day/
LOCATION:Tommy Cuthbert Golf Learning Center\, 2 Turtle Point Ln\, Kiawah Island\,\, SC\, 29455\, United States
CATEGORIES:Golf
END:VEVENT
BEGIN:VEVENT
DTSTART;TZID=America/New_York:20260219T100000
DTEND;TZID=America/New_York:20260219T143000
DTSTAMP:20260421T233846
CREATED:20260216T155153Z
LAST-MODIFIED:20260216T170002Z
UID:10148024-1771495200-1771511400@kiawahresort.com
SUMMARY:Titleist Fitting Experience
DESCRIPTION:Titleist\nYour Fitting Specialist will have the full range of Titleist Metals\, Irons\, and Wedges\, along with a diverse shaft matrix\, so you can dial in your bag. Your fitter will use advanced SureFit and TrackMan technology to optimize your equipment specs. You will also be provided a premium Golf Ball recommendation. \nBook Now.
URL:https://kiawahresort.com/event/titleist-fitting-experience/
LOCATION:Tommy Cuthbert Golf Learning Center\, 2 Turtle Point Ln\, Kiawah Island\,\, SC\, 29455\, United States
CATEGORIES:Golf
END:VEVENT
BEGIN:VEVENT
DTSTART;TZID=America/New_York:20260210T110000
DTEND;TZID=America/New_York:20260210T153000
DTSTAMP:20260421T233846
CREATED:20250602T171126Z
LAST-MODIFIED:20260216T145535Z
UID:10128635-1770721200-1770737400@kiawahresort.com
SUMMARY:Callaway Club Fitting Days
DESCRIPTION:TaylorMade Golf Club Fitting Day\nBook Now
URL:https://kiawahresort.com/event/callaway-club-fitting-days/
LOCATION:Tommy Cuthbert Golf Learning Center\, 2 Turtle Point Ln\, Kiawah Island\,\, SC\, 29455\, United States
CATEGORIES:Golf
END:VEVENT
END:VCALENDAR