BEGIN:VCALENDAR
VERSION:2.0
PRODID:-//Kiawah Island Golf Resort - ECPv6.15.20//NONSGML v1.0//EN
CALSCALE:GREGORIAN
METHOD:PUBLISH
X-WR-CALNAME:Kiawah Island Golf Resort
X-ORIGINAL-URL:https://kiawahresort.com
X-WR-CALDESC:Events for Kiawah Island Golf Resort
REFRESH-INTERVAL;VALUE=DURATION:PT1H
X-Robots-Tag:noindex
X-PUBLISHED-TTL:PT1H
BEGIN:VTIMEZONE
TZID:America/New_York
BEGIN:DAYLIGHT
TZOFFSETFROM:-0500
TZOFFSETTO:-0400
TZNAME:EDT
DTSTART:20250309T070000
END:DAYLIGHT
BEGIN:STANDARD
TZOFFSETFROM:-0400
TZOFFSETTO:-0500
TZNAME:EST
DTSTART:20251102T060000
END:STANDARD
BEGIN:DAYLIGHT
TZOFFSETFROM:-0500
TZOFFSETTO:-0400
TZNAME:EDT
DTSTART:20260308T070000
END:DAYLIGHT
BEGIN:STANDARD
TZOFFSETFROM:-0400
TZOFFSETTO:-0500
TZNAME:EST
DTSTART:20261101T060000
END:STANDARD
BEGIN:DAYLIGHT
TZOFFSETFROM:-0500
TZOFFSETTO:-0400
TZNAME:EDT
DTSTART:20270314T070000
END:DAYLIGHT
BEGIN:STANDARD
TZOFFSETFROM:-0400
TZOFFSETTO:-0500
TZNAME:EST
DTSTART:20271107T060000
END:STANDARD
END:VTIMEZONE
BEGIN:VEVENT
DTSTART;TZID=America/New_York:20260427T080000
DTEND;TZID=America/New_York:20260427T090000
DTSTAMP:20260424T062552
CREATED:20260226T205705Z
LAST-MODIFIED:20260226T210053Z
UID:10152458-1777276800-1777280400@kiawahresort.com
SUMMARY:Bird Walk at Mingo Point
DESCRIPTION:Mingo Point is a unique spot situated between gorgeous views of the salt marsh along the Kiawah River and the maritime forest of Kiawah Island. Join a naturalist on this 1-hour birding tour to get a taste of the great birds Kiawah Island has to offer all in one place\, from flocks of singing red-wing blackbirds to wood storks and egrets wading in the pluff mud along the edge of the marsh. \nPrice: $25 per person\, 1 hour. Recommended for ages 8 and up. Children under 16 must be accompanied by an adult.  Reservations required\, 24-hour cancellation policy applies\, 843.768.6001.
URL:https://kiawahresort.com/event/bird-walk-at-mingo-point-6-2-2-2/2026-04-27/
CATEGORIES:Family,Adult Oriented,Nature Program
ATTACH;FMTTYPE=image/png:https://kiawahresort.com/wp-content/uploads/2024/01/Resize-image-project-4.png
ORGANIZER;CN="Kiawah Recreation":MAILTO:Kiawah_Recreation@KiawahResort.com
END:VEVENT
BEGIN:VEVENT
DTSTART;TZID=America/New_York:20260504T080000
DTEND;TZID=America/New_York:20260504T090000
DTSTAMP:20260424T062552
CREATED:20260226T205705Z
LAST-MODIFIED:20260226T210053Z
UID:10152459-1777881600-1777885200@kiawahresort.com
SUMMARY:Bird Walk at Mingo Point
DESCRIPTION:Mingo Point is a unique spot situated between gorgeous views of the salt marsh along the Kiawah River and the maritime forest of Kiawah Island. Join a naturalist on this 1-hour birding tour to get a taste of the great birds Kiawah Island has to offer all in one place\, from flocks of singing red-wing blackbirds to wood storks and egrets wading in the pluff mud along the edge of the marsh. \nPrice: $25 per person\, 1 hour. Recommended for ages 8 and up. Children under 16 must be accompanied by an adult.  Reservations required\, 24-hour cancellation policy applies\, 843.768.6001.
URL:https://kiawahresort.com/event/bird-walk-at-mingo-point-6-2-2-2/2026-05-04/
CATEGORIES:Family,Adult Oriented,Nature Program
ATTACH;FMTTYPE=image/png:https://kiawahresort.com/wp-content/uploads/2024/01/Resize-image-project-4.png
ORGANIZER;CN="Kiawah Recreation":MAILTO:Kiawah_Recreation@KiawahResort.com
END:VEVENT
BEGIN:VEVENT
DTSTART;TZID=America/New_York:20260511T080000
DTEND;TZID=America/New_York:20260511T090000
DTSTAMP:20260424T062552
CREATED:20260226T205705Z
LAST-MODIFIED:20260226T210053Z
UID:10152460-1778486400-1778490000@kiawahresort.com
SUMMARY:Bird Walk at Mingo Point
DESCRIPTION:Mingo Point is a unique spot situated between gorgeous views of the salt marsh along the Kiawah River and the maritime forest of Kiawah Island. Join a naturalist on this 1-hour birding tour to get a taste of the great birds Kiawah Island has to offer all in one place\, from flocks of singing red-wing blackbirds to wood storks and egrets wading in the pluff mud along the edge of the marsh. \nPrice: $25 per person\, 1 hour. Recommended for ages 8 and up. Children under 16 must be accompanied by an adult.  Reservations required\, 24-hour cancellation policy applies\, 843.768.6001.
URL:https://kiawahresort.com/event/bird-walk-at-mingo-point-6-2-2-2/2026-05-11/
CATEGORIES:Family,Adult Oriented,Nature Program
ATTACH;FMTTYPE=image/png:https://kiawahresort.com/wp-content/uploads/2024/01/Resize-image-project-4.png
ORGANIZER;CN="Kiawah Recreation":MAILTO:Kiawah_Recreation@KiawahResort.com
END:VEVENT
BEGIN:VEVENT
DTSTART;TZID=America/New_York:20260518T080000
DTEND;TZID=America/New_York:20260518T090000
DTSTAMP:20260424T062552
CREATED:20260226T205705Z
LAST-MODIFIED:20260226T210053Z
UID:10152461-1779091200-1779094800@kiawahresort.com
SUMMARY:Bird Walk at Mingo Point
DESCRIPTION:Mingo Point is a unique spot situated between gorgeous views of the salt marsh along the Kiawah River and the maritime forest of Kiawah Island. Join a naturalist on this 1-hour birding tour to get a taste of the great birds Kiawah Island has to offer all in one place\, from flocks of singing red-wing blackbirds to wood storks and egrets wading in the pluff mud along the edge of the marsh. \nPrice: $25 per person\, 1 hour. Recommended for ages 8 and up. Children under 16 must be accompanied by an adult.  Reservations required\, 24-hour cancellation policy applies\, 843.768.6001.
URL:https://kiawahresort.com/event/bird-walk-at-mingo-point-6-2-2-2/2026-05-18/
CATEGORIES:Family,Adult Oriented,Nature Program
ATTACH;FMTTYPE=image/png:https://kiawahresort.com/wp-content/uploads/2024/01/Resize-image-project-4.png
ORGANIZER;CN="Kiawah Recreation":MAILTO:Kiawah_Recreation@KiawahResort.com
END:VEVENT
BEGIN:VEVENT
DTSTART;TZID=America/New_York:20260525T080000
DTEND;TZID=America/New_York:20260525T090000
DTSTAMP:20260424T062552
CREATED:20260226T205705Z
LAST-MODIFIED:20260226T210053Z
UID:10152462-1779696000-1779699600@kiawahresort.com
SUMMARY:Bird Walk at Mingo Point
DESCRIPTION:Mingo Point is a unique spot situated between gorgeous views of the salt marsh along the Kiawah River and the maritime forest of Kiawah Island. Join a naturalist on this 1-hour birding tour to get a taste of the great birds Kiawah Island has to offer all in one place\, from flocks of singing red-wing blackbirds to wood storks and egrets wading in the pluff mud along the edge of the marsh. \nPrice: $25 per person\, 1 hour. Recommended for ages 8 and up. Children under 16 must be accompanied by an adult.  Reservations required\, 24-hour cancellation policy applies\, 843.768.6001.
URL:https://kiawahresort.com/event/bird-walk-at-mingo-point-6-2-2-2/2026-05-25/
CATEGORIES:Family,Adult Oriented,Nature Program
ATTACH;FMTTYPE=image/png:https://kiawahresort.com/wp-content/uploads/2024/01/Resize-image-project-4.png
ORGANIZER;CN="Kiawah Recreation":MAILTO:Kiawah_Recreation@KiawahResort.com
END:VEVENT
BEGIN:VEVENT
DTSTART;TZID=America/New_York:20260601T080000
DTEND;TZID=America/New_York:20260601T090000
DTSTAMP:20260424T062552
CREATED:20260226T205705Z
LAST-MODIFIED:20260226T210053Z
UID:10152463-1780300800-1780304400@kiawahresort.com
SUMMARY:Bird Walk at Mingo Point
DESCRIPTION:Mingo Point is a unique spot situated between gorgeous views of the salt marsh along the Kiawah River and the maritime forest of Kiawah Island. Join a naturalist on this 1-hour birding tour to get a taste of the great birds Kiawah Island has to offer all in one place\, from flocks of singing red-wing blackbirds to wood storks and egrets wading in the pluff mud along the edge of the marsh. \nPrice: $25 per person\, 1 hour. Recommended for ages 8 and up. Children under 16 must be accompanied by an adult.  Reservations required\, 24-hour cancellation policy applies\, 843.768.6001.
URL:https://kiawahresort.com/event/bird-walk-at-mingo-point-6-2-2-2/2026-06-01/
CATEGORIES:Family,Adult Oriented,Nature Program
ATTACH;FMTTYPE=image/png:https://kiawahresort.com/wp-content/uploads/2024/01/Resize-image-project-4.png
ORGANIZER;CN="Kiawah Recreation":MAILTO:Kiawah_Recreation@KiawahResort.com
END:VEVENT
BEGIN:VEVENT
DTSTART;TZID=America/New_York:20260615T080000
DTEND;TZID=America/New_York:20260615T090000
DTSTAMP:20260424T062552
CREATED:20260226T205705Z
LAST-MODIFIED:20260226T210053Z
UID:10152465-1781510400-1781514000@kiawahresort.com
SUMMARY:Bird Walk at Mingo Point
DESCRIPTION:Mingo Point is a unique spot situated between gorgeous views of the salt marsh along the Kiawah River and the maritime forest of Kiawah Island. Join a naturalist on this 1-hour birding tour to get a taste of the great birds Kiawah Island has to offer all in one place\, from flocks of singing red-wing blackbirds to wood storks and egrets wading in the pluff mud along the edge of the marsh. \nPrice: $25 per person\, 1 hour. Recommended for ages 8 and up. Children under 16 must be accompanied by an adult.  Reservations required\, 24-hour cancellation policy applies\, 843.768.6001.
URL:https://kiawahresort.com/event/bird-walk-at-mingo-point-6-2-2-2/2026-06-15/
CATEGORIES:Family,Adult Oriented,Nature Program
ATTACH;FMTTYPE=image/png:https://kiawahresort.com/wp-content/uploads/2024/01/Resize-image-project-4.png
ORGANIZER;CN="Kiawah Recreation":MAILTO:Kiawah_Recreation@KiawahResort.com
END:VEVENT
BEGIN:VEVENT
DTSTART;TZID=America/New_York:20260622T080000
DTEND;TZID=America/New_York:20260622T090000
DTSTAMP:20260424T062552
CREATED:20260226T205705Z
LAST-MODIFIED:20260226T210053Z
UID:10152466-1782115200-1782118800@kiawahresort.com
SUMMARY:Bird Walk at Mingo Point
DESCRIPTION:Mingo Point is a unique spot situated between gorgeous views of the salt marsh along the Kiawah River and the maritime forest of Kiawah Island. Join a naturalist on this 1-hour birding tour to get a taste of the great birds Kiawah Island has to offer all in one place\, from flocks of singing red-wing blackbirds to wood storks and egrets wading in the pluff mud along the edge of the marsh. \nPrice: $25 per person\, 1 hour. Recommended for ages 8 and up. Children under 16 must be accompanied by an adult.  Reservations required\, 24-hour cancellation policy applies\, 843.768.6001.
URL:https://kiawahresort.com/event/bird-walk-at-mingo-point-6-2-2-2/2026-06-22/
CATEGORIES:Family,Adult Oriented,Nature Program
ATTACH;FMTTYPE=image/png:https://kiawahresort.com/wp-content/uploads/2024/01/Resize-image-project-4.png
ORGANIZER;CN="Kiawah Recreation":MAILTO:Kiawah_Recreation@KiawahResort.com
END:VEVENT
BEGIN:VEVENT
DTSTART;TZID=America/New_York:20260629T080000
DTEND;TZID=America/New_York:20260629T090000
DTSTAMP:20260424T062552
CREATED:20260226T205705Z
LAST-MODIFIED:20260226T210053Z
UID:10152467-1782720000-1782723600@kiawahresort.com
SUMMARY:Bird Walk at Mingo Point
DESCRIPTION:Mingo Point is a unique spot situated between gorgeous views of the salt marsh along the Kiawah River and the maritime forest of Kiawah Island. Join a naturalist on this 1-hour birding tour to get a taste of the great birds Kiawah Island has to offer all in one place\, from flocks of singing red-wing blackbirds to wood storks and egrets wading in the pluff mud along the edge of the marsh. \nPrice: $25 per person\, 1 hour. Recommended for ages 8 and up. Children under 16 must be accompanied by an adult.  Reservations required\, 24-hour cancellation policy applies\, 843.768.6001.
URL:https://kiawahresort.com/event/bird-walk-at-mingo-point-6-2-2-2/2026-06-29/
CATEGORIES:Family,Adult Oriented,Nature Program
ATTACH;FMTTYPE=image/png:https://kiawahresort.com/wp-content/uploads/2024/01/Resize-image-project-4.png
ORGANIZER;CN="Kiawah Recreation":MAILTO:Kiawah_Recreation@KiawahResort.com
END:VEVENT
BEGIN:VEVENT
DTSTART;TZID=America/New_York:20260706T080000
DTEND;TZID=America/New_York:20260706T090000
DTSTAMP:20260424T062552
CREATED:20260226T205705Z
LAST-MODIFIED:20260226T210053Z
UID:10152468-1783324800-1783328400@kiawahresort.com
SUMMARY:Bird Walk at Mingo Point
DESCRIPTION:Mingo Point is a unique spot situated between gorgeous views of the salt marsh along the Kiawah River and the maritime forest of Kiawah Island. Join a naturalist on this 1-hour birding tour to get a taste of the great birds Kiawah Island has to offer all in one place\, from flocks of singing red-wing blackbirds to wood storks and egrets wading in the pluff mud along the edge of the marsh. \nPrice: $25 per person\, 1 hour. Recommended for ages 8 and up. Children under 16 must be accompanied by an adult.  Reservations required\, 24-hour cancellation policy applies\, 843.768.6001.
URL:https://kiawahresort.com/event/bird-walk-at-mingo-point-6-2-2-2/2026-07-06/
CATEGORIES:Family,Adult Oriented,Nature Program
ATTACH;FMTTYPE=image/png:https://kiawahresort.com/wp-content/uploads/2024/01/Resize-image-project-4.png
ORGANIZER;CN="Kiawah Recreation":MAILTO:Kiawah_Recreation@KiawahResort.com
END:VEVENT
BEGIN:VEVENT
DTSTART;TZID=America/New_York:20260713T080000
DTEND;TZID=America/New_York:20260713T090000
DTSTAMP:20260424T062552
CREATED:20260226T205705Z
LAST-MODIFIED:20260226T210053Z
UID:10152469-1783929600-1783933200@kiawahresort.com
SUMMARY:Bird Walk at Mingo Point
DESCRIPTION:Mingo Point is a unique spot situated between gorgeous views of the salt marsh along the Kiawah River and the maritime forest of Kiawah Island. Join a naturalist on this 1-hour birding tour to get a taste of the great birds Kiawah Island has to offer all in one place\, from flocks of singing red-wing blackbirds to wood storks and egrets wading in the pluff mud along the edge of the marsh. \nPrice: $25 per person\, 1 hour. Recommended for ages 8 and up. Children under 16 must be accompanied by an adult.  Reservations required\, 24-hour cancellation policy applies\, 843.768.6001.
URL:https://kiawahresort.com/event/bird-walk-at-mingo-point-6-2-2-2/2026-07-13/
CATEGORIES:Family,Adult Oriented,Nature Program
ATTACH;FMTTYPE=image/png:https://kiawahresort.com/wp-content/uploads/2024/01/Resize-image-project-4.png
ORGANIZER;CN="Kiawah Recreation":MAILTO:Kiawah_Recreation@KiawahResort.com
END:VEVENT
BEGIN:VEVENT
DTSTART;TZID=America/New_York:20260720T080000
DTEND;TZID=America/New_York:20260720T090000
DTSTAMP:20260424T062552
CREATED:20260226T205705Z
LAST-MODIFIED:20260226T210053Z
UID:10152470-1784534400-1784538000@kiawahresort.com
SUMMARY:Bird Walk at Mingo Point
DESCRIPTION:Mingo Point is a unique spot situated between gorgeous views of the salt marsh along the Kiawah River and the maritime forest of Kiawah Island. Join a naturalist on this 1-hour birding tour to get a taste of the great birds Kiawah Island has to offer all in one place\, from flocks of singing red-wing blackbirds to wood storks and egrets wading in the pluff mud along the edge of the marsh. \nPrice: $25 per person\, 1 hour. Recommended for ages 8 and up. Children under 16 must be accompanied by an adult.  Reservations required\, 24-hour cancellation policy applies\, 843.768.6001.
URL:https://kiawahresort.com/event/bird-walk-at-mingo-point-6-2-2-2/2026-07-20/
CATEGORIES:Family,Adult Oriented,Nature Program
ATTACH;FMTTYPE=image/png:https://kiawahresort.com/wp-content/uploads/2024/01/Resize-image-project-4.png
ORGANIZER;CN="Kiawah Recreation":MAILTO:Kiawah_Recreation@KiawahResort.com
END:VEVENT
BEGIN:VEVENT
DTSTART;TZID=America/New_York:20260727T080000
DTEND;TZID=America/New_York:20260727T090000
DTSTAMP:20260424T062552
CREATED:20260226T205705Z
LAST-MODIFIED:20260226T210053Z
UID:10152471-1785139200-1785142800@kiawahresort.com
SUMMARY:Bird Walk at Mingo Point
DESCRIPTION:Mingo Point is a unique spot situated between gorgeous views of the salt marsh along the Kiawah River and the maritime forest of Kiawah Island. Join a naturalist on this 1-hour birding tour to get a taste of the great birds Kiawah Island has to offer all in one place\, from flocks of singing red-wing blackbirds to wood storks and egrets wading in the pluff mud along the edge of the marsh. \nPrice: $25 per person\, 1 hour. Recommended for ages 8 and up. Children under 16 must be accompanied by an adult.  Reservations required\, 24-hour cancellation policy applies\, 843.768.6001.
URL:https://kiawahresort.com/event/bird-walk-at-mingo-point-6-2-2-2/2026-07-27/
CATEGORIES:Family,Adult Oriented,Nature Program
ATTACH;FMTTYPE=image/png:https://kiawahresort.com/wp-content/uploads/2024/01/Resize-image-project-4.png
ORGANIZER;CN="Kiawah Recreation":MAILTO:Kiawah_Recreation@KiawahResort.com
END:VEVENT
BEGIN:VEVENT
DTSTART;TZID=America/New_York:20260803T080000
DTEND;TZID=America/New_York:20260803T090000
DTSTAMP:20260424T062552
CREATED:20260226T205705Z
LAST-MODIFIED:20260226T210053Z
UID:10152472-1785744000-1785747600@kiawahresort.com
SUMMARY:Bird Walk at Mingo Point
DESCRIPTION:Mingo Point is a unique spot situated between gorgeous views of the salt marsh along the Kiawah River and the maritime forest of Kiawah Island. Join a naturalist on this 1-hour birding tour to get a taste of the great birds Kiawah Island has to offer all in one place\, from flocks of singing red-wing blackbirds to wood storks and egrets wading in the pluff mud along the edge of the marsh. \nPrice: $25 per person\, 1 hour. Recommended for ages 8 and up. Children under 16 must be accompanied by an adult.  Reservations required\, 24-hour cancellation policy applies\, 843.768.6001.
URL:https://kiawahresort.com/event/bird-walk-at-mingo-point-6-2-2-2/2026-08-03/
CATEGORIES:Family,Adult Oriented,Nature Program
ATTACH;FMTTYPE=image/png:https://kiawahresort.com/wp-content/uploads/2024/01/Resize-image-project-4.png
ORGANIZER;CN="Kiawah Recreation":MAILTO:Kiawah_Recreation@KiawahResort.com
END:VEVENT
BEGIN:VEVENT
DTSTART;TZID=America/New_York:20260810T080000
DTEND;TZID=America/New_York:20260810T090000
DTSTAMP:20260424T062552
CREATED:20260226T205705Z
LAST-MODIFIED:20260226T210053Z
UID:10152473-1786348800-1786352400@kiawahresort.com
SUMMARY:Bird Walk at Mingo Point
DESCRIPTION:Mingo Point is a unique spot situated between gorgeous views of the salt marsh along the Kiawah River and the maritime forest of Kiawah Island. Join a naturalist on this 1-hour birding tour to get a taste of the great birds Kiawah Island has to offer all in one place\, from flocks of singing red-wing blackbirds to wood storks and egrets wading in the pluff mud along the edge of the marsh. \nPrice: $25 per person\, 1 hour. Recommended for ages 8 and up. Children under 16 must be accompanied by an adult.  Reservations required\, 24-hour cancellation policy applies\, 843.768.6001.
URL:https://kiawahresort.com/event/bird-walk-at-mingo-point-6-2-2-2/2026-08-10/
CATEGORIES:Family,Adult Oriented,Nature Program
ATTACH;FMTTYPE=image/png:https://kiawahresort.com/wp-content/uploads/2024/01/Resize-image-project-4.png
ORGANIZER;CN="Kiawah Recreation":MAILTO:Kiawah_Recreation@KiawahResort.com
END:VEVENT
BEGIN:VEVENT
DTSTART;TZID=America/New_York:20260817T080000
DTEND;TZID=America/New_York:20260817T090000
DTSTAMP:20260424T062552
CREATED:20260226T205705Z
LAST-MODIFIED:20260226T210053Z
UID:10152474-1786953600-1786957200@kiawahresort.com
SUMMARY:Bird Walk at Mingo Point
DESCRIPTION:Mingo Point is a unique spot situated between gorgeous views of the salt marsh along the Kiawah River and the maritime forest of Kiawah Island. Join a naturalist on this 1-hour birding tour to get a taste of the great birds Kiawah Island has to offer all in one place\, from flocks of singing red-wing blackbirds to wood storks and egrets wading in the pluff mud along the edge of the marsh. \nPrice: $25 per person\, 1 hour. Recommended for ages 8 and up. Children under 16 must be accompanied by an adult.  Reservations required\, 24-hour cancellation policy applies\, 843.768.6001.
URL:https://kiawahresort.com/event/bird-walk-at-mingo-point-6-2-2-2/2026-08-17/
CATEGORIES:Family,Adult Oriented,Nature Program
ATTACH;FMTTYPE=image/png:https://kiawahresort.com/wp-content/uploads/2024/01/Resize-image-project-4.png
ORGANIZER;CN="Kiawah Recreation":MAILTO:Kiawah_Recreation@KiawahResort.com
END:VEVENT
BEGIN:VEVENT
DTSTART;TZID=America/New_York:20260824T080000
DTEND;TZID=America/New_York:20260824T090000
DTSTAMP:20260424T062552
CREATED:20260226T205705Z
LAST-MODIFIED:20260226T210053Z
UID:10152475-1787558400-1787562000@kiawahresort.com
SUMMARY:Bird Walk at Mingo Point
DESCRIPTION:Mingo Point is a unique spot situated between gorgeous views of the salt marsh along the Kiawah River and the maritime forest of Kiawah Island. Join a naturalist on this 1-hour birding tour to get a taste of the great birds Kiawah Island has to offer all in one place\, from flocks of singing red-wing blackbirds to wood storks and egrets wading in the pluff mud along the edge of the marsh. \nPrice: $25 per person\, 1 hour. Recommended for ages 8 and up. Children under 16 must be accompanied by an adult.  Reservations required\, 24-hour cancellation policy applies\, 843.768.6001.
URL:https://kiawahresort.com/event/bird-walk-at-mingo-point-6-2-2-2/2026-08-24/
CATEGORIES:Family,Adult Oriented,Nature Program
ATTACH;FMTTYPE=image/png:https://kiawahresort.com/wp-content/uploads/2024/01/Resize-image-project-4.png
ORGANIZER;CN="Kiawah Recreation":MAILTO:Kiawah_Recreation@KiawahResort.com
END:VEVENT
BEGIN:VEVENT
DTSTART;TZID=America/New_York:20260831T080000
DTEND;TZID=America/New_York:20260831T090000
DTSTAMP:20260424T062552
CREATED:20260226T205705Z
LAST-MODIFIED:20260226T210053Z
UID:10152476-1788163200-1788166800@kiawahresort.com
SUMMARY:Bird Walk at Mingo Point
DESCRIPTION:Mingo Point is a unique spot situated between gorgeous views of the salt marsh along the Kiawah River and the maritime forest of Kiawah Island. Join a naturalist on this 1-hour birding tour to get a taste of the great birds Kiawah Island has to offer all in one place\, from flocks of singing red-wing blackbirds to wood storks and egrets wading in the pluff mud along the edge of the marsh. \nPrice: $25 per person\, 1 hour. Recommended for ages 8 and up. Children under 16 must be accompanied by an adult.  Reservations required\, 24-hour cancellation policy applies\, 843.768.6001.
URL:https://kiawahresort.com/event/bird-walk-at-mingo-point-6-2-2-2/2026-08-31/
CATEGORIES:Family,Adult Oriented,Nature Program
ATTACH;FMTTYPE=image/png:https://kiawahresort.com/wp-content/uploads/2024/01/Resize-image-project-4.png
ORGANIZER;CN="Kiawah Recreation":MAILTO:Kiawah_Recreation@KiawahResort.com
END:VEVENT
END:VCALENDAR