BEGIN:VCALENDAR
VERSION:2.0
PRODID:-//Kiawah Island Golf Resort - ECPv6.15.20//NONSGML v1.0//EN
CALSCALE:GREGORIAN
METHOD:PUBLISH
X-WR-CALNAME:Kiawah Island Golf Resort
X-ORIGINAL-URL:https://kiawahresort.com
X-WR-CALDESC:Events for Kiawah Island Golf Resort
REFRESH-INTERVAL;VALUE=DURATION:PT1H
X-Robots-Tag:noindex
X-PUBLISHED-TTL:PT1H
BEGIN:VTIMEZONE
TZID:America/New_York
BEGIN:DAYLIGHT
TZOFFSETFROM:-0500
TZOFFSETTO:-0400
TZNAME:EDT
DTSTART:20240310T070000
END:DAYLIGHT
BEGIN:STANDARD
TZOFFSETFROM:-0400
TZOFFSETTO:-0500
TZNAME:EST
DTSTART:20241103T060000
END:STANDARD
BEGIN:DAYLIGHT
TZOFFSETFROM:-0500
TZOFFSETTO:-0400
TZNAME:EDT
DTSTART:20250309T070000
END:DAYLIGHT
BEGIN:STANDARD
TZOFFSETFROM:-0400
TZOFFSETTO:-0500
TZNAME:EST
DTSTART:20251102T060000
END:STANDARD
BEGIN:DAYLIGHT
TZOFFSETFROM:-0500
TZOFFSETTO:-0400
TZNAME:EDT
DTSTART:20260308T070000
END:DAYLIGHT
BEGIN:STANDARD
TZOFFSETFROM:-0400
TZOFFSETTO:-0500
TZNAME:EST
DTSTART:20261101T060000
END:STANDARD
END:VTIMEZONE
BEGIN:VEVENT
DTSTART;TZID=America/New_York:20250617T133000
DTEND;TZID=America/New_York:20250617T143000
DTSTAMP:20260423T110206
CREATED:20250326T000809Z
LAST-MODIFIED:20250326T000809Z
UID:10125408-1750167000-1750170600@kiawahresort.com
SUMMARY:Music Bingo in the Park
DESCRIPTION:Join us in the park for a few rounds of Music Bingo. Try your luck with popular songs from 2024 or rock out to classics from the 80’s. Fun for the whole family! First round begins at 1:30pm. \nThis event is complimentary\, no reservations are required.
URL:https://kiawahresort.com/event/music-bingo-in-the-park-2/2025-06-17/
LOCATION:Night Heron Park Stage\, 4000 Sea Forest Drive\, Kiawah Island\, 29455\, United States
CATEGORIES:Family,Children's Activities,Music
ATTACH;FMTTYPE=image/jpeg:https://kiawahresort.com/wp-content/uploads/2023/05/Kiawah-Island-Golf-Resort-Easter-Day-3-052-e1737219932852.jpg
ORGANIZER;CN="Kiawah Recreation":MAILTO:Kiawah_Recreation@KiawahResort.com
END:VEVENT
BEGIN:VEVENT
DTSTART;TZID=America/New_York:20250614T180000
DTEND;TZID=America/New_York:20250614T200000
DTSTAMP:20260423T110206
CREATED:20250327T141921Z
LAST-MODIFIED:20250327T141921Z
UID:10125808-1749924000-1749931200@kiawahresort.com
SUMMARY:Island Idol
DESCRIPTION:Island Idol is back and ready to hear all the talent Kiawah Island has to offer. Step onto the Night Heron Park Stage to wow the audience with your favorite songs. \nThis event is complimentary\, no reservations are required. Scan the QR code on the signs around the park to enter the queue and wait for the DJ to announce your name. Schedule subject to change.
URL:https://kiawahresort.com/event/island-idol-4/2025-06-14/
LOCATION:Night Heron Park Stage\, 4000 Sea Forest Drive\, Kiawah Island\, 29455\, United States
CATEGORIES:Family,Music
ATTACH;FMTTYPE=image/jpeg:https://kiawahresort.com/wp-content/uploads/2024/09/Island-Idol-Photo-2-e1737226662276.jpg
ORGANIZER;CN="Kiawah Recreation":MAILTO:Kiawah_Recreation@KiawahResort.com
END:VEVENT
BEGIN:VEVENT
DTSTART;TZID=America/New_York:20250613T180000
DTEND;TZID=America/New_York:20250613T210000
DTSTAMP:20260423T110206
CREATED:20230512T142832Z
LAST-MODIFIED:20250610T180009Z
UID:10128750-1749837600-1749848400@kiawahresort.com
SUMMARY:Keith Bruce
DESCRIPTION:
URL:https://kiawahresort.com/event/live-at-loggerhead-me-and-mr-jones/2025-06-13/
LOCATION:Loggerhead Grill\, One Sanctuary Beach Drive\, Kiawah Island\, SC\, 29455\, United States
CATEGORIES:Family,Dining,Music
END:VEVENT
BEGIN:VEVENT
DTSTART;TZID=America/New_York:20250613T140000
DTEND;TZID=America/New_York:20250613T150000
DTSTAMP:20260423T110206
CREATED:20250327T140746Z
LAST-MODIFIED:20250715T185012Z
UID:10125775-1749823200-1749826800@kiawahresort.com
SUMMARY:Music Bingo by the Pool
DESCRIPTION:Join us at the West Beach Pool for a few rounds of music bingo! Fun for the whole family. First round begins at 2pm. \nThis event is complimentary\, no reservations are required. Please note that Kiawah Island Golf Resort Pool usage is exclusive to resort guests and Governor’s Club Members.
URL:https://kiawahresort.com/event/music-bingo-by-the-pool/2025-06-13/
LOCATION:West Beach Pool\, 1 Vacation Way\, Kiawah Island\, SC\, 29455\, United States
CATEGORIES:Family,Children's Activities,Music
ATTACH;FMTTYPE=image/jpeg:https://kiawahresort.com/wp-content/uploads/2023/05/Kiawah-Island-Golf-Resort-Easter-Day-3-052-e1737219932852.jpg
ORGANIZER;CN="Kiawah Recreation":MAILTO:Kiawah_Recreation@KiawahResort.com
GEO:32.5926343;-80.118132
X-APPLE-STRUCTURED-LOCATION;VALUE=URI;X-ADDRESS=West Beach Pool 1 Vacation Way Kiawah Island SC 29455 United States;X-APPLE-RADIUS=500;X-TITLE=1 Vacation Way:geo:-80.118132,32.5926343
END:VEVENT
BEGIN:VEVENT
DTSTART;TZID=America/New_York:20250611T180000
DTEND;TZID=America/New_York:20250611T210000
DTSTAMP:20260423T110206
CREATED:20250326T154617Z
LAST-MODIFIED:20250326T154617Z
UID:10125621-1749664800-1749675600@kiawahresort.com
SUMMARY:Sundown Festival
DESCRIPTION:Enjoy the evening in Night Heron Park as the sun sets on the day. Live music\, southern lawn games\, inflatables\, a photo booth\, and crafts are available throughout the evening. \nCome check out Archery Tag! This is a fast paced game that involves aim\, accuracy\, teamwork\, strategy\, and FUN! $5/game\, $20/unlimited play. For ages 8+. Schedule subject to change. \nThis event is complimentary\, no reservations are required. Crafts and archery tag available for purchase until 8:30pm. For concession needs\, please visit The Nest. Schedule subject to change.
URL:https://kiawahresort.com/event/sundown-festival/2025-06-11/
LOCATION:Night Heron Park
CATEGORIES:Family,Children's Activities,Crafts,Music
ATTACH;FMTTYPE=image/jpeg:https://kiawahresort.com/wp-content/uploads/2023/05/Sundown-Festival.jpg
ORGANIZER;CN="Kiawah Recreation":MAILTO:Kiawah_Recreation@KiawahResort.com
GEO:32.5991993;-80.1012187
END:VEVENT
BEGIN:VEVENT
DTSTART;TZID=America/New_York:20250610T133000
DTEND;TZID=America/New_York:20250610T143000
DTSTAMP:20260423T110206
CREATED:20250326T000809Z
LAST-MODIFIED:20250326T000809Z
UID:10125407-1749562200-1749565800@kiawahresort.com
SUMMARY:Music Bingo in the Park
DESCRIPTION:Join us in the park for a few rounds of Music Bingo. Try your luck with popular songs from 2024 or rock out to classics from the 80’s. Fun for the whole family! First round begins at 1:30pm. \nThis event is complimentary\, no reservations are required.
URL:https://kiawahresort.com/event/music-bingo-in-the-park-2/2025-06-10/
LOCATION:Night Heron Park Stage\, 4000 Sea Forest Drive\, Kiawah Island\, 29455\, United States
CATEGORIES:Family,Children's Activities,Music
ATTACH;FMTTYPE=image/jpeg:https://kiawahresort.com/wp-content/uploads/2023/05/Kiawah-Island-Golf-Resort-Easter-Day-3-052-e1737219932852.jpg
ORGANIZER;CN="Kiawah Recreation":MAILTO:Kiawah_Recreation@KiawahResort.com
END:VEVENT
BEGIN:VEVENT
DTSTART;TZID=America/New_York:20250606T180000
DTEND;TZID=America/New_York:20250606T210000
DTSTAMP:20260423T110206
CREATED:20250610T174941Z
LAST-MODIFIED:20250610T180802Z
UID:10128747-1749232800-1749243600@kiawahresort.com
SUMMARY:Noah Grove
DESCRIPTION:
URL:https://kiawahresort.com/event/live-at-loggerhead-grill-danny-may-2/2025-06-06/
LOCATION:Loggerhead Grill\, One Sanctuary Beach Drive\, Kiawah Island\, SC\, 29455\, United States
CATEGORIES:Family,Dining,Music
END:VEVENT
BEGIN:VEVENT
DTSTART;TZID=America/New_York:20250606T180000
DTEND;TZID=America/New_York:20250606T210000
DTSTAMP:20260423T110206
CREATED:20230512T143558Z
LAST-MODIFIED:20250610T174003Z
UID:10128737-1749232800-1749243600@kiawahresort.com
SUMMARY:Noah Grove
DESCRIPTION:
URL:https://kiawahresort.com/event/live-at-loggerhead-grill-danny-may/
LOCATION:Loggerhead Grill\, One Sanctuary Beach Drive\, Kiawah Island\, SC\, 29455\, United States
CATEGORIES:Family,Dining,Music
END:VEVENT
BEGIN:VEVENT
DTSTART;TZID=America/New_York:20250606T140000
DTEND;TZID=America/New_York:20250606T150000
DTSTAMP:20260423T110206
CREATED:20250327T140746Z
LAST-MODIFIED:20250715T185012Z
UID:10125774-1749218400-1749222000@kiawahresort.com
SUMMARY:Music Bingo by the Pool
DESCRIPTION:Join us at the West Beach Pool for a few rounds of music bingo! Fun for the whole family. First round begins at 2pm. \nThis event is complimentary\, no reservations are required. Please note that Kiawah Island Golf Resort Pool usage is exclusive to resort guests and Governor’s Club Members.
URL:https://kiawahresort.com/event/music-bingo-by-the-pool/2025-06-06/
LOCATION:West Beach Pool\, 1 Vacation Way\, Kiawah Island\, SC\, 29455\, United States
CATEGORIES:Family,Children's Activities,Music
ATTACH;FMTTYPE=image/jpeg:https://kiawahresort.com/wp-content/uploads/2023/05/Kiawah-Island-Golf-Resort-Easter-Day-3-052-e1737219932852.jpg
ORGANIZER;CN="Kiawah Recreation":MAILTO:Kiawah_Recreation@KiawahResort.com
GEO:32.5926343;-80.118132
X-APPLE-STRUCTURED-LOCATION;VALUE=URI;X-ADDRESS=West Beach Pool 1 Vacation Way Kiawah Island SC 29455 United States;X-APPLE-RADIUS=500;X-TITLE=1 Vacation Way:geo:-80.118132,32.5926343
END:VEVENT
BEGIN:VEVENT
DTSTART;TZID=America/New_York:20250605T173000
DTEND;TZID=America/New_York:20250605T193000
DTSTAMP:20260423T110206
CREATED:20250409T192031Z
LAST-MODIFIED:20250409T192031Z
UID:10126433-1749144600-1749151800@kiawahresort.com
SUMMARY:Music Bingo
DESCRIPTION:Join us in the park for a few rounds of music bingo. Try your luck in various rounds of bingo and mini games. Fun for the whole family! First round begins at 5:30pm. \nThis event is complimentary and no reservations are required. A limited amount of picnic table seating is available. Blankets or beach chairs recommended. Schedule subject to change.
URL:https://kiawahresort.com/event/music-bingo-2/2025-06-05/
LOCATION:Night Heron Park Stage\, 4000 Sea Forest Drive\, Kiawah Island\, 29455\, United States
CATEGORIES:Family,Children's Activities,Music
ATTACH;FMTTYPE=image/jpeg:https://kiawahresort.com/wp-content/uploads/2023/05/Kiawah-Island-Golf-Resort-Easter-Day-3-052-e1737219932852.jpg
ORGANIZER;CN="Kiawah Recreation":MAILTO:Kiawah_Recreation@KiawahResort.com
END:VEVENT
BEGIN:VEVENT
DTSTART;TZID=America/New_York:20250603T133000
DTEND;TZID=America/New_York:20250603T143000
DTSTAMP:20260423T110206
CREATED:20250326T000809Z
LAST-MODIFIED:20250326T000809Z
UID:10125406-1748957400-1748961000@kiawahresort.com
SUMMARY:Music Bingo in the Park
DESCRIPTION:Join us in the park for a few rounds of Music Bingo. Try your luck with popular songs from 2024 or rock out to classics from the 80’s. Fun for the whole family! First round begins at 1:30pm. \nThis event is complimentary\, no reservations are required.
URL:https://kiawahresort.com/event/music-bingo-in-the-park-2/2025-06-03/
LOCATION:Night Heron Park Stage\, 4000 Sea Forest Drive\, Kiawah Island\, 29455\, United States
CATEGORIES:Family,Children's Activities,Music
ATTACH;FMTTYPE=image/jpeg:https://kiawahresort.com/wp-content/uploads/2023/05/Kiawah-Island-Golf-Resort-Easter-Day-3-052-e1737219932852.jpg
ORGANIZER;CN="Kiawah Recreation":MAILTO:Kiawah_Recreation@KiawahResort.com
END:VEVENT
BEGIN:VEVENT
DTSTART;TZID=America/New_York:20250530T140000
DTEND;TZID=America/New_York:20250530T150000
DTSTAMP:20260423T110206
CREATED:20250327T140746Z
LAST-MODIFIED:20250715T185012Z
UID:10125773-1748613600-1748617200@kiawahresort.com
SUMMARY:Music Bingo by the Pool
DESCRIPTION:Join us at the West Beach Pool for a few rounds of music bingo! Fun for the whole family. First round begins at 2pm. \nThis event is complimentary\, no reservations are required. Please note that Kiawah Island Golf Resort Pool usage is exclusive to resort guests and Governor’s Club Members.
URL:https://kiawahresort.com/event/music-bingo-by-the-pool/2025-05-30/
LOCATION:West Beach Pool\, 1 Vacation Way\, Kiawah Island\, SC\, 29455\, United States
CATEGORIES:Family,Children's Activities,Music
ATTACH;FMTTYPE=image/jpeg:https://kiawahresort.com/wp-content/uploads/2023/05/Kiawah-Island-Golf-Resort-Easter-Day-3-052-e1737219932852.jpg
ORGANIZER;CN="Kiawah Recreation":MAILTO:Kiawah_Recreation@KiawahResort.com
GEO:32.5926343;-80.118132
X-APPLE-STRUCTURED-LOCATION;VALUE=URI;X-ADDRESS=West Beach Pool 1 Vacation Way Kiawah Island SC 29455 United States;X-APPLE-RADIUS=500;X-TITLE=1 Vacation Way:geo:-80.118132,32.5926343
END:VEVENT
BEGIN:VEVENT
DTSTART;TZID=America/New_York:20250527T173000
DTEND;TZID=America/New_York:20250527T193000
DTSTAMP:20260423T110206
CREATED:20250409T192031Z
LAST-MODIFIED:20250409T192031Z
UID:10126432-1748367000-1748374200@kiawahresort.com
SUMMARY:Music Bingo
DESCRIPTION:Join us in the park for a few rounds of music bingo. Try your luck in various rounds of bingo and mini games. Fun for the whole family! First round begins at 5:30pm. \nThis event is complimentary and no reservations are required. A limited amount of picnic table seating is available. Blankets or beach chairs recommended. Schedule subject to change.
URL:https://kiawahresort.com/event/music-bingo-2/2025-05-27/
LOCATION:Night Heron Park Stage\, 4000 Sea Forest Drive\, Kiawah Island\, 29455\, United States
CATEGORIES:Family,Children's Activities,Music
ATTACH;FMTTYPE=image/jpeg:https://kiawahresort.com/wp-content/uploads/2023/05/Kiawah-Island-Golf-Resort-Easter-Day-3-052-e1737219932852.jpg
ORGANIZER;CN="Kiawah Recreation":MAILTO:Kiawah_Recreation@KiawahResort.com
END:VEVENT
BEGIN:VEVENT
DTSTART;TZID=America/New_York:20250527T133000
DTEND;TZID=America/New_York:20250527T143000
DTSTAMP:20260423T110206
CREATED:20250408T201849Z
LAST-MODIFIED:20250408T201850Z
UID:10125405-1748352600-1748356200@kiawahresort.com
SUMMARY:Bingo in the Park
DESCRIPTION:Join us in the park for a few rounds of Bingo. Try your luck with regular rounds or be the first to black out your board. Fun for the whole family! First round begins at 1:30pm. \nThis event is complimentary\, no reservations are required.
URL:https://kiawahresort.com/event/music-bingo-in-the-park-2-3/
LOCATION:Night Heron Park Stage\, 4000 Sea Forest Drive\, Kiawah Island\, 29455\, United States
CATEGORIES:Family,Children's Activities,Music
ATTACH;FMTTYPE=image/jpeg:https://kiawahresort.com/wp-content/uploads/2023/05/Kiawah-Island-Golf-Resort-Easter-Day-3-052-e1737219932852.jpg
ORGANIZER;CN="Kiawah Recreation":MAILTO:Kiawah_Recreation@KiawahResort.com
END:VEVENT
BEGIN:VEVENT
DTSTART;TZID=America/New_York:20250525T150000
DTEND;TZID=America/New_York:20250525T170000
DTSTAMP:20260423T110206
CREATED:20250118T185816Z
LAST-MODIFIED:20250214T132142Z
UID:10116498-1748185200-1748192400@kiawahresort.com
SUMMARY:Island Idol
DESCRIPTION:Island Idol is back and ready to hear all of the talent Kiawah Island has to offer. Step onto the Night Heron Park Stage to wow the audience with your favorite songs. \nThis event is complimentary\, no reservations are required. Scan the QR code on the signs around the park to enter the queue and wait for the DJ to announce your name. Schedule is subject to change. \n 
URL:https://kiawahresort.com/event/island-idol-2/2025-05-25/
LOCATION:Night Heron Park Stage\, 4000 Sea Forest Drive\, Kiawah Island\, 29455\, United States
CATEGORIES:Family,Holiday,Music
ATTACH;FMTTYPE=image/jpeg:https://kiawahresort.com/wp-content/uploads/2024/09/Island-Idol-Photo-2-e1737226662276.jpg
ORGANIZER;CN="Kiawah Recreation":MAILTO:Kiawah_Recreation@KiawahResort.com
END:VEVENT
BEGIN:VEVENT
DTSTART;TZID=America/New_York:20250419T150000
DTEND;TZID=America/New_York:20250419T170000
DTSTAMP:20260423T110206
CREATED:20250118T185816Z
LAST-MODIFIED:20250214T132142Z
UID:10115026-1745074800-1745082000@kiawahresort.com
SUMMARY:Island Idol
DESCRIPTION:Island Idol is back and ready to hear all of the talent Kiawah Island has to offer. Step onto the Night Heron Park Stage to wow the audience with your favorite songs. \nThis event is complimentary\, no reservations are required. Scan the QR code on the signs around the park to enter the queue and wait for the DJ to announce your name. Schedule is subject to change. \n 
URL:https://kiawahresort.com/event/island-idol-2/2025-04-19/
LOCATION:Night Heron Park Stage\, 4000 Sea Forest Drive\, Kiawah Island\, 29455\, United States
CATEGORIES:Family,Holiday,Music
ATTACH;FMTTYPE=image/jpeg:https://kiawahresort.com/wp-content/uploads/2024/09/Island-Idol-Photo-2-e1737226662276.jpg
ORGANIZER;CN="Kiawah Recreation":MAILTO:Kiawah_Recreation@KiawahResort.com
END:VEVENT
BEGIN:VEVENT
DTSTART;TZID=America/New_York:20250416T170000
DTEND;TZID=America/New_York:20250416T180000
DTSTAMP:20260423T110206
CREATED:20250118T170619Z
LAST-MODIFIED:20250118T170619Z
UID:10115020-1744822800-1744826400@kiawahresort.com
SUMMARY:Music Bingo
DESCRIPTION:Join us in the park for a few rounds of Music Bingo! Try your luck in various rounds of bingo and mini games. Fun for the whole family! First round begins at 5pm. \nThis event is complimentary\, no reservations are required. A limited amount of picnic table seating is available. Blankets or beach chairs are recommended. Schedule subject to change.
URL:https://kiawahresort.com/event/music-bingo/
LOCATION:Night Heron Park Stage\, 4000 Sea Forest Drive\, Kiawah Island\, 29455\, United States
CATEGORIES:Family,Holiday,Music
ATTACH;FMTTYPE=image/jpeg:https://kiawahresort.com/wp-content/uploads/2023/05/Kiawah-Island-Golf-Resort-Easter-Day-3-052-e1737219932852.jpg
ORGANIZER;CN="Kiawah Recreation":MAILTO:Kiawah_Recreation@KiawahResort.com
END:VEVENT
END:VCALENDAR