BEGIN:VCALENDAR
VERSION:2.0
PRODID:-//Kiawah Island Golf Resort - ECPv6.15.20//NONSGML v1.0//EN
CALSCALE:GREGORIAN
METHOD:PUBLISH
X-ORIGINAL-URL:https://kiawahresort.com
X-WR-CALDESC:Events for Kiawah Island Golf Resort
REFRESH-INTERVAL;VALUE=DURATION:PT1H
X-Robots-Tag:noindex
X-PUBLISHED-TTL:PT1H
BEGIN:VTIMEZONE
TZID:America/New_York
BEGIN:DAYLIGHT
TZOFFSETFROM:-0500
TZOFFSETTO:-0400
TZNAME:EDT
DTSTART:20240310T070000
END:DAYLIGHT
BEGIN:STANDARD
TZOFFSETFROM:-0400
TZOFFSETTO:-0500
TZNAME:EST
DTSTART:20241103T060000
END:STANDARD
BEGIN:DAYLIGHT
TZOFFSETFROM:-0500
TZOFFSETTO:-0400
TZNAME:EDT
DTSTART:20250309T070000
END:DAYLIGHT
BEGIN:STANDARD
TZOFFSETFROM:-0400
TZOFFSETTO:-0500
TZNAME:EST
DTSTART:20251102T060000
END:STANDARD
BEGIN:DAYLIGHT
TZOFFSETFROM:-0500
TZOFFSETTO:-0400
TZNAME:EDT
DTSTART:20260308T070000
END:DAYLIGHT
BEGIN:STANDARD
TZOFFSETFROM:-0400
TZOFFSETTO:-0500
TZNAME:EST
DTSTART:20261101T060000
END:STANDARD
BEGIN:DAYLIGHT
TZOFFSETFROM:-0500
TZOFFSETTO:-0400
TZNAME:EDT
DTSTART:20270314T070000
END:DAYLIGHT
BEGIN:STANDARD
TZOFFSETFROM:-0400
TZOFFSETTO:-0500
TZNAME:EST
DTSTART:20271107T060000
END:STANDARD
END:VTIMEZONE
BEGIN:VEVENT
DTSTART;TZID=America/New_York:20260422T130000
DTEND;TZID=America/New_York:20260422T140000
DTSTAMP:20260423T093943
CREATED:20251104T152717Z
LAST-MODIFIED:20260414T133542Z
UID:10155726-1776862800-1776866400@kiawahresort.com
SUMMARY:Music Bingo
DESCRIPTION:Join us in the park for a few rounds of Music Bingo! Fun for the whole family. First round begins at 1pm. \nThis event is complimentary\, no reservations are required. A limited amount of stadium seating is available\, Schedule subject to change.
URL:https://kiawahresort.com/event/music-bingo-3/2026-04-22/
LOCATION:Treehouse Activity Center Amphitheatre
CATEGORIES:Family,Holiday,Music
ATTACH;FMTTYPE=image/jpeg:https://kiawahresort.com/wp-content/uploads/2023/05/Kiawah-Island-Golf-Resort-Easter-Day-3-052-e1737219932852.jpg
ORGANIZER;CN="Kiawah Recreation":MAILTO:Kiawah_Recreation@KiawahResort.com
END:VEVENT
BEGIN:VEVENT
DTSTART;TZID=America/New_York:20260415T130000
DTEND;TZID=America/New_York:20260415T140000
DTSTAMP:20260423T093943
CREATED:20251104T152717Z
LAST-MODIFIED:20260414T133542Z
UID:10155725-1776258000-1776261600@kiawahresort.com
SUMMARY:Music Bingo
DESCRIPTION:Join us in the park for a few rounds of Music Bingo! Fun for the whole family. First round begins at 1pm. \nThis event is complimentary\, no reservations are required. A limited amount of stadium seating is available\, Schedule subject to change.
URL:https://kiawahresort.com/event/music-bingo-3/2026-04-15/
LOCATION:Treehouse Activity Center Amphitheatre
CATEGORIES:Family,Holiday,Music
ATTACH;FMTTYPE=image/jpeg:https://kiawahresort.com/wp-content/uploads/2023/05/Kiawah-Island-Golf-Resort-Easter-Day-3-052-e1737219932852.jpg
ORGANIZER;CN="Kiawah Recreation":MAILTO:Kiawah_Recreation@KiawahResort.com
END:VEVENT
BEGIN:VEVENT
DTSTART;TZID=America/New_York:20260408T130000
DTEND;TZID=America/New_York:20260408T140000
DTSTAMP:20260423T093943
CREATED:20251104T152717Z
LAST-MODIFIED:20260414T133542Z
UID:10155724-1775653200-1775656800@kiawahresort.com
SUMMARY:Music Bingo
DESCRIPTION:Join us in the park for a few rounds of Music Bingo! Fun for the whole family. First round begins at 1pm. \nThis event is complimentary\, no reservations are required. A limited amount of stadium seating is available\, Schedule subject to change.
URL:https://kiawahresort.com/event/music-bingo-3/2026-04-08/
LOCATION:Treehouse Activity Center Amphitheatre
CATEGORIES:Family,Holiday,Music
ATTACH;FMTTYPE=image/jpeg:https://kiawahresort.com/wp-content/uploads/2023/05/Kiawah-Island-Golf-Resort-Easter-Day-3-052-e1737219932852.jpg
ORGANIZER;CN="Kiawah Recreation":MAILTO:Kiawah_Recreation@KiawahResort.com
END:VEVENT
BEGIN:VEVENT
DTSTART;TZID=America/New_York:20260405T163000
DTEND;TZID=America/New_York:20260405T180000
DTSTAMP:20260423T093943
CREATED:20250119T142840Z
LAST-MODIFIED:20260202T135355Z
UID:10115031-1775406600-1775412000@kiawahresort.com
SUMMARY:Rick Hubbard's Great American Kids Show
DESCRIPTION:Our fan favorite\, Rick Hubbard\, is back for a special show to celebrate Easter on the Night Heron Park Stage! \nThis event is complimentary\, no reservations are required. A limited amount of picnic table seating available. Blankets and beach chairs recommended. Schedule subject to change.
URL:https://kiawahresort.com/event/rick-hubbard-and-the-kazoobie-kazoo-show-5/
LOCATION:Night Heron Park Stage\, 4000 Sea Forest Drive\, Kiawah Island\, 29455\, United States
CATEGORIES:Family,Children's Activities,Holiday,Music
ATTACH;FMTTYPE=image/jpeg:https://kiawahresort.com/wp-content/uploads/2020/10/Rick-at-Childrens-Day-e1611602766796.jpg
ORGANIZER;CN="Kiawah Recreation":MAILTO:Kiawah_Recreation@KiawahResort.com
END:VEVENT
BEGIN:VEVENT
DTSTART;TZID=America/New_York:20260401T130000
DTEND;TZID=America/New_York:20260401T140000
DTSTAMP:20260423T093943
CREATED:20251104T152717Z
LAST-MODIFIED:20260414T133542Z
UID:10155723-1775048400-1775052000@kiawahresort.com
SUMMARY:Music Bingo
DESCRIPTION:Join us in the park for a few rounds of Music Bingo! Fun for the whole family. First round begins at 1pm. \nThis event is complimentary\, no reservations are required. A limited amount of stadium seating is available\, Schedule subject to change.
URL:https://kiawahresort.com/event/music-bingo-3/2026-04-01/
LOCATION:Treehouse Activity Center Amphitheatre
CATEGORIES:Family,Holiday,Music
ATTACH;FMTTYPE=image/jpeg:https://kiawahresort.com/wp-content/uploads/2023/05/Kiawah-Island-Golf-Resort-Easter-Day-3-052-e1737219932852.jpg
ORGANIZER;CN="Kiawah Recreation":MAILTO:Kiawah_Recreation@KiawahResort.com
END:VEVENT
BEGIN:VEVENT
DTSTART;TZID=America/New_York:20260330T173000
DTEND;TZID=America/New_York:20260330T193000
DTSTAMP:20260423T093943
CREATED:20250828T182128Z
LAST-MODIFIED:20260128T145623Z
UID:10126435-1774891800-1774899000@kiawahresort.com
SUMMARY:Music Bingo
DESCRIPTION:Join us in the park for a few rounds of music bingo. Try your luck in various rounds of bingo and mini games. Fun for the whole family! First round begins at 5:30pm. \nThis event is complimentary and no reservations are required. A limited amount of picnic table seating is available. Blankets or beach chairs recommended. Schedule subject to change.
URL:https://kiawahresort.com/event/music-bingo-2-2/
LOCATION:The Treehouse Ampitheatre\, 4000 Sea Forest Drive\, Kiawah Island\, SC\, 29455\, United States
CATEGORIES:Family,Children's Activities,Music
ATTACH;FMTTYPE=image/jpeg:https://kiawahresort.com/wp-content/uploads/2023/05/Kiawah-Island-Golf-Resort-Easter-Day-3-052-e1737219932852.jpg
ORGANIZER;CN="Kiawah Recreation":MAILTO:Kiawah_Recreation@KiawahResort.com
END:VEVENT
BEGIN:VEVENT
DTSTART;TZID=America/New_York:20260325T130000
DTEND;TZID=America/New_York:20260325T140000
DTSTAMP:20260423T093943
CREATED:20251104T152717Z
LAST-MODIFIED:20260414T133542Z
UID:10138614-1774443600-1774447200@kiawahresort.com
SUMMARY:Music Bingo
DESCRIPTION:Join us in the park for a few rounds of Music Bingo! Fun for the whole family. First round begins at 1pm. \nThis event is complimentary\, no reservations are required. A limited amount of stadium seating is available\, Schedule subject to change.
URL:https://kiawahresort.com/event/music-bingo-3/2026-03-25/
LOCATION:Treehouse Activity Center Amphitheatre
CATEGORIES:Family,Holiday,Music
ATTACH;FMTTYPE=image/jpeg:https://kiawahresort.com/wp-content/uploads/2023/05/Kiawah-Island-Golf-Resort-Easter-Day-3-052-e1737219932852.jpg
ORGANIZER;CN="Kiawah Recreation":MAILTO:Kiawah_Recreation@KiawahResort.com
END:VEVENT
BEGIN:VEVENT
DTSTART;TZID=America/New_York:20260319T160000
DTEND;TZID=America/New_York:20260319T163000
DTSTAMP:20260423T093943
CREATED:20260318T220419Z
LAST-MODIFIED:20260318T220512Z
UID:10154076-1773936000-1773937800@kiawahresort.com
SUMMARY:Live Music | The Biscuit Eaters
DESCRIPTION:The Biscuit Eaters are a 7 piece\, Bluegrass and Old Time family string band from Surry County\, NC.  Come join an afternoon of family fun at Night Heron Park
URL:https://kiawahresort.com/event/live-music-the-biscuit-eaters/
LOCATION:Treehouse Activity Center Amphitheatre
CATEGORIES:Family,Children's Activities,Music
ATTACH;FMTTYPE=image/jpeg:https://kiawahresort.com/wp-content/uploads/2026/03/channels4_profile.jpg
ORGANIZER;CN="Kiawah Recreation":MAILTO:Kiawah_Recreation@KiawahResort.com
END:VEVENT
BEGIN:VEVENT
DTSTART;TZID=America/New_York:20260318T130000
DTEND;TZID=America/New_York:20260318T140000
DTSTAMP:20260423T093943
CREATED:20251104T152717Z
LAST-MODIFIED:20260414T133542Z
UID:10138613-1773838800-1773842400@kiawahresort.com
SUMMARY:Music Bingo
DESCRIPTION:Join us in the park for a few rounds of Music Bingo! Fun for the whole family. First round begins at 1pm. \nThis event is complimentary\, no reservations are required. A limited amount of stadium seating is available\, Schedule subject to change.
URL:https://kiawahresort.com/event/music-bingo-3/2026-03-18/
LOCATION:Treehouse Activity Center Amphitheatre
CATEGORIES:Family,Holiday,Music
ATTACH;FMTTYPE=image/jpeg:https://kiawahresort.com/wp-content/uploads/2023/05/Kiawah-Island-Golf-Resort-Easter-Day-3-052-e1737219932852.jpg
ORGANIZER;CN="Kiawah Recreation":MAILTO:Kiawah_Recreation@KiawahResort.com
END:VEVENT
BEGIN:VEVENT
DTSTART;TZID=America/New_York:20260311T130000
DTEND;TZID=America/New_York:20260311T140000
DTSTAMP:20260423T093943
CREATED:20251104T152717Z
LAST-MODIFIED:20260414T133542Z
UID:10138612-1773234000-1773237600@kiawahresort.com
SUMMARY:Music Bingo
DESCRIPTION:Join us in the park for a few rounds of Music Bingo! Fun for the whole family. First round begins at 1pm. \nThis event is complimentary\, no reservations are required. A limited amount of stadium seating is available\, Schedule subject to change.
URL:https://kiawahresort.com/event/music-bingo-3/2026-03-11/
LOCATION:Treehouse Activity Center Amphitheatre
CATEGORIES:Family,Holiday,Music
ATTACH;FMTTYPE=image/jpeg:https://kiawahresort.com/wp-content/uploads/2023/05/Kiawah-Island-Golf-Resort-Easter-Day-3-052-e1737219932852.jpg
ORGANIZER;CN="Kiawah Recreation":MAILTO:Kiawah_Recreation@KiawahResort.com
END:VEVENT
BEGIN:VEVENT
DTSTART;TZID=America/New_York:20260304T130000
DTEND;TZID=America/New_York:20260304T140000
DTSTAMP:20260423T093943
CREATED:20251104T152717Z
LAST-MODIFIED:20260414T133542Z
UID:10138611-1772629200-1772632800@kiawahresort.com
SUMMARY:Music Bingo
DESCRIPTION:Join us in the park for a few rounds of Music Bingo! Fun for the whole family. First round begins at 1pm. \nThis event is complimentary\, no reservations are required. A limited amount of stadium seating is available\, Schedule subject to change.
URL:https://kiawahresort.com/event/music-bingo-3/2026-03-04/
LOCATION:Treehouse Activity Center Amphitheatre
CATEGORIES:Family,Holiday,Music
ATTACH;FMTTYPE=image/jpeg:https://kiawahresort.com/wp-content/uploads/2023/05/Kiawah-Island-Golf-Resort-Easter-Day-3-052-e1737219932852.jpg
ORGANIZER;CN="Kiawah Recreation":MAILTO:Kiawah_Recreation@KiawahResort.com
END:VEVENT
BEGIN:VEVENT
DTSTART;TZID=America/New_York:20260101T110000
DTEND;TZID=America/New_York:20260101T120000
DTSTAMP:20260423T093943
CREATED:20250801T191326Z
LAST-MODIFIED:20250801T191326Z
UID:10134925-1767265200-1767268800@kiawahresort.com
SUMMARY:New Year's Day 5k
DESCRIPTION:No better way to ring in the New Year than with a beach fun run! This fun 1 mile or 5k run/walk will begin at the Sanctuary beach access and head toward the Ocean Course. Please bring your own water bottle. \nThis event is complimentary and no reservations are required. Schedule subject to change.
URL:https://kiawahresort.com/event/new-years-day-5k/
LOCATION:Sanctuary Beach Access\, 1 Sanctuary Drive\, Kiawah Island\, SC\, 29455\, United States
CATEGORIES:Family,Beach,Holiday,Music
ATTACH;FMTTYPE=image/jpeg:https://kiawahresort.com/wp-content/uploads/2024/11/DSC04520.jpg
ORGANIZER;CN="Kiawah Recreation":MAILTO:Kiawah_Recreation@KiawahResort.com
GEO:32.6016258;-80.0938729
X-APPLE-STRUCTURED-LOCATION;VALUE=URI;X-ADDRESS=Sanctuary Beach Access 1 Sanctuary Drive Kiawah Island SC 29455 United States;X-APPLE-RADIUS=500;X-TITLE=1 Sanctuary Drive:geo:-80.0938729,32.6016258
END:VEVENT
BEGIN:VEVENT
DTSTART;TZID=America/New_York:20251231T170000
DTEND;TZID=America/New_York:20251231T200000
DTSTAMP:20260423T093943
CREATED:20250801T191045Z
LAST-MODIFIED:20250801T191045Z
UID:10134924-1767200400-1767211200@kiawahresort.com
SUMMARY:New Year's Eve Family Celebration
DESCRIPTION:Ring in 2026 with friends and family\, featuring glow golf\, music\, and fireworks. Full à la carte dinner service available until 8pm.  Don’t forget to stay for our firework starting promptly at 8pm. The evening is full of entertainment suitable for families and groups of all ages. \nThe New Year’s Eve Family Celebration at Night Heron Park is limited to Kiawah Island guests and residents. This event is complimentary\, no reservations required. Food and glow gear available for purchase. Schedule subject to change.
URL:https://kiawahresort.com/event/new-years-eve-family-celebration/
LOCATION:Night Heron Park
CATEGORIES:Family,Children's Activities,Crafts,Holiday,Music
ATTACH;FMTTYPE=image/jpeg:https://kiawahresort.com/wp-content/uploads/2021/08/resize-e1748095871345.jpg
ORGANIZER;CN="Kiawah Recreation":MAILTO:Kiawah_Recreation@KiawahResort.com
GEO:32.5991993;-80.1012187
END:VEVENT
BEGIN:VEVENT
DTSTART;TZID=America/New_York:20251230T170000
DTEND;TZID=America/New_York:20251230T190000
DTSTAMP:20260423T093943
CREATED:20250801T200135Z
LAST-MODIFIED:20250801T200135Z
UID:10134943-1767114000-1767121200@kiawahresort.com
SUMMARY:S'mores and More
DESCRIPTION:Spend time with each other around a fire while enjoying lawn games\, designing custom crafts and indulging in a s’more or two. Live music provided by Thomas Champagne \nCome and check out Archery Tag! This is a fast paced game that involves aim\, accuracy\, teamwork\, strategy\, and FUN! $5/game\, $20/unlimited play. For ages 8+. \nS’mores packs available for purchase at $5 for a pack of four. A limited amount of seating available\, beach chairs or blankets recommended. Schedule subject to change.
URL:https://kiawahresort.com/event/smores-and-more/
LOCATION:Night Heron Park Stage\, 4000 Sea Forest Drive\, Kiawah Island\, 29455\, United States
CATEGORIES:Family,Holiday,Music
ATTACH;FMTTYPE=image/jpeg:https://kiawahresort.com/wp-content/uploads/2019/06/bonfire.jpg
ORGANIZER;CN="Kiawah Recreation":MAILTO:Kiawah_Recreation@KiawahResort.com
END:VEVENT
BEGIN:VEVENT
DTSTART;TZID=America/New_York:20251129T133000
DTEND;TZID=America/New_York:20251129T153000
DTSTAMP:20260423T093943
CREATED:20250728T203449Z
LAST-MODIFIED:20250728T203449Z
UID:10134918-1764423000-1764430200@kiawahresort.com
SUMMARY:Holiday Music Bingo
DESCRIPTION:Immerse yourself in the holiday spirit with festive rounds of bingo. Test your knowledge in songs and participate in exciting mini games. Our first round kicks off at 1:30pm\, don’t miss out on the fun! \nThis event is complimentary\, no reservations are required. A limited amount of picnic table seating is available. Blankets and beach chairs are recommended. Schedule is subject to change.
URL:https://kiawahresort.com/event/holiday-music-bingo-2/
LOCATION:Night Heron Park Stage\, 4000 Sea Forest Drive\, Kiawah Island\, 29455\, United States
CATEGORIES:Family,Children's Activities,Holiday,Music
ATTACH;FMTTYPE=image/jpeg:https://kiawahresort.com/wp-content/uploads/2023/05/Kiawah-Island-Golf-Resort-Easter-Day-3-052-e1737219932852.jpg
ORGANIZER;CN="Kiawah Recreation":MAILTO:Kiawah_Recreation@KiawahResort.com
END:VEVENT
BEGIN:VEVENT
DTSTART;TZID=America/New_York:20251128T120000
DTEND;TZID=America/New_York:20251128T160000
DTSTAMP:20260423T093943
CREATED:20250728T183013Z
LAST-MODIFIED:20250901T160209Z
UID:10134912-1764331200-1764345600@kiawahresort.com
SUMMARY:Christmas Spectacular Festival
DESCRIPTION:Enjoy live Christmas music\, festive face painting\, and fun memories at our photo booth. Don’t miss Santa’s Storytime from 1:30-2pm and meet adorable holiday farm animals\, 2:30-4pm. Plus\, join in on crafts and activities with your loved ones–let’s make this season extra special together! \nNo reservations needed\, some activities may require a fee. Schedule subject to change.
URL:https://kiawahresort.com/event/christmas-spectacular-festival-2/
LOCATION:Night Heron Park
CATEGORIES:Family,Children's Activities,Crafts,Holiday,Music
ATTACH;FMTTYPE=image/jpeg:https://kiawahresort.com/wp-content/uploads/2024/07/festival.jpg
ORGANIZER;CN="Kiawah Recreation":MAILTO:Kiawah_Recreation@KiawahResort.com
GEO:32.5991993;-80.1012187
END:VEVENT
BEGIN:VEVENT
DTSTART;TZID=America/New_York:20251128T093000
DTEND;TZID=America/New_York:20251128T110000
DTSTAMP:20260423T093943
CREATED:20250717T183519Z
LAST-MODIFIED:20250717T183519Z
UID:10133731-1764322200-1764327600@kiawahresort.com
SUMMARY:Rick Hubbard's Great American Christmas Kid's Show
DESCRIPTION:The snow will be falling so softly everywhere\, and the sound of children’s laughter will surely fill the air! We can make your wish come true\, because all you need for Christmas…is KAZOO. Our favorite\, Rick Hubbard\, is back for a special Christmas show on the Night Heron Park stage. \nAdmission is complimentary\, no reservations required. A limited amount of picnic table seating is available. Blankets and beach chairs recommended. Schedule subject to change.
URL:https://kiawahresort.com/event/rick-hubbards-great-american-christmas-kids-show/
LOCATION:Night Heron Park Stage\, 4000 Sea Forest Drive\, Kiawah Island\, 29455\, United States
CATEGORIES:Family,Children's Activities,Holiday,Music
ATTACH;FMTTYPE=image/jpeg:https://kiawahresort.com/wp-content/uploads/2023/05/Rick-Hubbard-Christmas.jpg
ORGANIZER;CN="Kiawah Recreation":MAILTO:Kiawah_Recreation@KiawahResort.com
END:VEVENT
BEGIN:VEVENT
DTSTART;TZID=America/New_York:20251126T163000
DTEND;TZID=America/New_York:20251126T193000
DTSTAMP:20260423T093943
CREATED:20250717T174236Z
LAST-MODIFIED:20250717T174236Z
UID:10133696-1764174600-1764185400@kiawahresort.com
SUMMARY:Music and S'mores
DESCRIPTION:Gather around the fire\, enjoy live music by Thomas Champagne and Friends\, and indulge in a s’more or two.  \nNo reservations are required. Music is complimentary\, s’more supplies for purchase until 7:00pm. Schedule subject to change.
URL:https://kiawahresort.com/event/music-and-smores/
LOCATION:Night Heron Park
CATEGORIES:Family,Holiday,Music
ATTACH;FMTTYPE=image/jpeg:https://kiawahresort.com/wp-content/uploads/2019/06/bonfire.jpg
ORGANIZER;CN="Kiawah Recreation":MAILTO:Kiawah_Recreation@KiawahResort.com
GEO:32.5991993;-80.1012187
END:VEVENT
BEGIN:VEVENT
DTSTART;TZID=America/New_York:20250822T180000
DTEND;TZID=America/New_York:20250822T210000
DTSTAMP:20260423T093943
CREATED:20250610T174941Z
LAST-MODIFIED:20250610T180802Z
UID:10128749-1755885600-1755896400@kiawahresort.com
SUMMARY:Noah Grove
DESCRIPTION:
URL:https://kiawahresort.com/event/live-at-loggerhead-grill-danny-may-2/2025-08-22/
LOCATION:Loggerhead Grill\, One Sanctuary Beach Drive\, Kiawah Island\, SC\, 29455\, United States
CATEGORIES:Family,Dining,Music
END:VEVENT
BEGIN:VEVENT
DTSTART;TZID=America/New_York:20250821T173000
DTEND;TZID=America/New_York:20250821T193000
DTSTAMP:20260423T093943
CREATED:20250409T192031Z
LAST-MODIFIED:20250409T192031Z
UID:10126434-1755797400-1755804600@kiawahresort.com
SUMMARY:Music Bingo
DESCRIPTION:Join us in the park for a few rounds of music bingo. Try your luck in various rounds of bingo and mini games. Fun for the whole family! First round begins at 5:30pm. \nThis event is complimentary and no reservations are required. A limited amount of picnic table seating is available. Blankets or beach chairs recommended. Schedule subject to change.
URL:https://kiawahresort.com/event/music-bingo-2/2025-08-21/
LOCATION:Night Heron Park Stage\, 4000 Sea Forest Drive\, Kiawah Island\, 29455\, United States
CATEGORIES:Family,Children's Activities,Music
ATTACH;FMTTYPE=image/jpeg:https://kiawahresort.com/wp-content/uploads/2023/05/Kiawah-Island-Golf-Resort-Easter-Day-3-052-e1737219932852.jpg
ORGANIZER;CN="Kiawah Recreation":MAILTO:Kiawah_Recreation@KiawahResort.com
END:VEVENT
BEGIN:VEVENT
DTSTART;TZID=America/New_York:20250816T170000
DTEND;TZID=America/New_York:20250816T190000
DTSTAMP:20260423T093943
CREATED:20250327T141921Z
LAST-MODIFIED:20250327T141921Z
UID:10125817-1755363600-1755370800@kiawahresort.com
SUMMARY:Island Idol
DESCRIPTION:Island Idol is back and ready to hear all the talent Kiawah Island has to offer. Step onto the Night Heron Park Stage to wow the audience with your favorite songs. \nThis event is complimentary\, no reservations are required. Scan the QR code on the signs around the park to enter the queue and wait for the DJ to announce your name. Schedule subject to change.
URL:https://kiawahresort.com/event/island-idol-4/2025-08-16/
LOCATION:Night Heron Park Stage\, 4000 Sea Forest Drive\, Kiawah Island\, 29455\, United States
CATEGORIES:Family,Music
ATTACH;FMTTYPE=image/jpeg:https://kiawahresort.com/wp-content/uploads/2024/09/Island-Idol-Photo-2-e1737226662276.jpg
ORGANIZER;CN="Kiawah Recreation":MAILTO:Kiawah_Recreation@KiawahResort.com
END:VEVENT
BEGIN:VEVENT
DTSTART;TZID=America/New_York:20250815T180000
DTEND;TZID=America/New_York:20250815T210000
DTSTAMP:20260423T093943
CREATED:20230512T142832Z
LAST-MODIFIED:20250610T180009Z
UID:10128751-1755280800-1755291600@kiawahresort.com
SUMMARY:Keith Bruce
DESCRIPTION:
URL:https://kiawahresort.com/event/live-at-loggerhead-me-and-mr-jones/2025-08-15/
LOCATION:Loggerhead Grill\, One Sanctuary Beach Drive\, Kiawah Island\, SC\, 29455\, United States
CATEGORIES:Family,Dining,Music
END:VEVENT
BEGIN:VEVENT
DTSTART;TZID=America/New_York:20250813T170000
DTEND;TZID=America/New_York:20250813T200000
DTSTAMP:20260423T093943
CREATED:20250715T172659Z
LAST-MODIFIED:20250731T152116Z
UID:10125629-1755104400-1755115200@kiawahresort.com
SUMMARY:Sundown Festival
DESCRIPTION:Enjoy the evening in Night Heron Park as the sun sets on the day. Live music\, southern lawn games\, inflatables\, a photo booth\, and crafts are available throughout the evening. \nSchedule subject to change. \nThis event is complimentary\, no reservations are required. Crafts and archery tag available for purchase until 7:30pm. For concession needs\, please visit The Nest. Schedule subject to change.
URL:https://kiawahresort.com/event/sundown-festival-2/
LOCATION:Night Heron Park
CATEGORIES:Family,Children's Activities,Crafts,Music
ATTACH;FMTTYPE=image/jpeg:https://kiawahresort.com/wp-content/uploads/2023/05/Sundown-Festival.jpg
ORGANIZER;CN="Kiawah Recreation":MAILTO:Kiawah_Recreation@KiawahResort.com
GEO:32.5991993;-80.1012187
END:VEVENT
BEGIN:VEVENT
DTSTART;TZID=America/New_York:20250812T163000
DTEND;TZID=America/New_York:20250812T173000
DTSTAMP:20260423T093943
CREATED:20250731T152431Z
LAST-MODIFIED:20250731T152431Z
UID:10125416-1755016200-1755019800@kiawahresort.com
SUMMARY:Music Bingo in the Park
DESCRIPTION:Join us in the park for a few rounds of Music Bingo. Try your luck with popular songs from 2024 or rock out to classics from the 80’s. Fun for the whole family! First round begins at 1:30pm. \nThis event is complimentary\, no reservations are required.
URL:https://kiawahresort.com/event/music-bingo-in-the-park-2-4/
LOCATION:Night Heron Park Stage\, 4000 Sea Forest Drive\, Kiawah Island\, 29455\, United States
CATEGORIES:Family,Children's Activities,Music
ATTACH;FMTTYPE=image/jpeg:https://kiawahresort.com/wp-content/uploads/2023/05/Kiawah-Island-Golf-Resort-Easter-Day-3-052-e1737219932852.jpg
ORGANIZER;CN="Kiawah Recreation":MAILTO:Kiawah_Recreation@KiawahResort.com
END:VEVENT
BEGIN:VEVENT
DTSTART;TZID=America/New_York:20250809T170000
DTEND;TZID=America/New_York:20250809T190000
DTSTAMP:20260423T093943
CREATED:20250327T141921Z
LAST-MODIFIED:20250327T141921Z
UID:10125816-1754758800-1754766000@kiawahresort.com
SUMMARY:Island Idol
DESCRIPTION:Island Idol is back and ready to hear all the talent Kiawah Island has to offer. Step onto the Night Heron Park Stage to wow the audience with your favorite songs. \nThis event is complimentary\, no reservations are required. Scan the QR code on the signs around the park to enter the queue and wait for the DJ to announce your name. Schedule subject to change.
URL:https://kiawahresort.com/event/island-idol-4/2025-08-09/
LOCATION:Night Heron Park Stage\, 4000 Sea Forest Drive\, Kiawah Island\, 29455\, United States
CATEGORIES:Family,Music
ATTACH;FMTTYPE=image/jpeg:https://kiawahresort.com/wp-content/uploads/2024/09/Island-Idol-Photo-2-e1737226662276.jpg
ORGANIZER;CN="Kiawah Recreation":MAILTO:Kiawah_Recreation@KiawahResort.com
END:VEVENT
BEGIN:VEVENT
DTSTART;TZID=America/New_York:20250808T180000
DTEND;TZID=America/New_York:20250808T210000
DTSTAMP:20260423T093943
CREATED:20230512T143155Z
LAST-MODIFIED:20250610T180422Z
UID:10128757-1754676000-1754686800@kiawahresort.com
SUMMARY:Tim Matthais
DESCRIPTION:
URL:https://kiawahresort.com/event/live-at-loggerhead-grill-thomas-champagne-and-friends/2025-08-08/
LOCATION:Loggerhead Grill\, One Sanctuary Beach Drive\, Kiawah Island\, SC\, 29455\, United States
CATEGORIES:Family,Dining,Music
END:VEVENT
BEGIN:VEVENT
DTSTART;TZID=America/New_York:20250806T170000
DTEND;TZID=America/New_York:20250806T200000
DTSTAMP:20260423T093943
CREATED:20250715T172750Z
LAST-MODIFIED:20250715T172750Z
UID:10125628-1754499600-1754510400@kiawahresort.com
SUMMARY:Sundown Festival
DESCRIPTION:Enjoy the evening in Night Heron Park as the sun sets on the day. Live music\, southern lawn games\, inflatables\, a photo booth\, and crafts are available throughout the evening. \nCome check out Archery Tag! This is a fast paced game that involves aim\, accuracy\, teamwork\, strategy\, and FUN! $5/game\, $20/unlimited play. For ages 8+. Schedule subject to change. \nThis event is complimentary\, no reservations are required. Crafts and archery tag available for purchase until 7:30pm. For concession needs\, please visit The Nest. Schedule subject to change.
URL:https://kiawahresort.com/event/sundown-festival-3/
LOCATION:Night Heron Park
CATEGORIES:Family,Children's Activities,Crafts,Music
ATTACH;FMTTYPE=image/jpeg:https://kiawahresort.com/wp-content/uploads/2023/05/Sundown-Festival.jpg
ORGANIZER;CN="Kiawah Recreation":MAILTO:Kiawah_Recreation@KiawahResort.com
GEO:32.5991993;-80.1012187
END:VEVENT
BEGIN:VEVENT
DTSTART;TZID=America/New_York:20250805T133000
DTEND;TZID=America/New_York:20250805T143000
DTSTAMP:20260423T093943
CREATED:20250326T000809Z
LAST-MODIFIED:20250326T000809Z
UID:10125415-1754400600-1754404200@kiawahresort.com
SUMMARY:Music Bingo in the Park
DESCRIPTION:Join us in the park for a few rounds of Music Bingo. Try your luck with popular songs from 2024 or rock out to classics from the 80’s. Fun for the whole family! First round begins at 1:30pm. \nThis event is complimentary\, no reservations are required.
URL:https://kiawahresort.com/event/music-bingo-in-the-park-2/2025-08-05/
LOCATION:Night Heron Park Stage\, 4000 Sea Forest Drive\, Kiawah Island\, 29455\, United States
CATEGORIES:Family,Children's Activities,Music
ATTACH;FMTTYPE=image/jpeg:https://kiawahresort.com/wp-content/uploads/2023/05/Kiawah-Island-Golf-Resort-Easter-Day-3-052-e1737219932852.jpg
ORGANIZER;CN="Kiawah Recreation":MAILTO:Kiawah_Recreation@KiawahResort.com
END:VEVENT
BEGIN:VEVENT
DTSTART;TZID=America/New_York:20250802T170000
DTEND;TZID=America/New_York:20250802T190000
DTSTAMP:20260423T093943
CREATED:20250327T141921Z
LAST-MODIFIED:20250327T141921Z
UID:10125815-1754154000-1754161200@kiawahresort.com
SUMMARY:Island Idol
DESCRIPTION:Island Idol is back and ready to hear all the talent Kiawah Island has to offer. Step onto the Night Heron Park Stage to wow the audience with your favorite songs. \nThis event is complimentary\, no reservations are required. Scan the QR code on the signs around the park to enter the queue and wait for the DJ to announce your name. Schedule subject to change.
URL:https://kiawahresort.com/event/island-idol-4/2025-08-02/
LOCATION:Night Heron Park Stage\, 4000 Sea Forest Drive\, Kiawah Island\, 29455\, United States
CATEGORIES:Family,Music
ATTACH;FMTTYPE=image/jpeg:https://kiawahresort.com/wp-content/uploads/2024/09/Island-Idol-Photo-2-e1737226662276.jpg
ORGANIZER;CN="Kiawah Recreation":MAILTO:Kiawah_Recreation@KiawahResort.com
END:VEVENT
BEGIN:VEVENT
DTSTART;TZID=America/New_York:20250801T180000
DTEND;TZID=America/New_York:20250801T210000
DTSTAMP:20260423T093943
CREATED:20230512T143155Z
LAST-MODIFIED:20250610T180422Z
UID:10128756-1754071200-1754082000@kiawahresort.com
SUMMARY:Tim Matthais
DESCRIPTION:
URL:https://kiawahresort.com/event/live-at-loggerhead-grill-thomas-champagne-and-friends/2025-08-01/
LOCATION:Loggerhead Grill\, One Sanctuary Beach Drive\, Kiawah Island\, SC\, 29455\, United States
CATEGORIES:Family,Dining,Music
END:VEVENT
END:VCALENDAR